BEGIN:VCALENDAR
VERSION:2.0
PRODID:-//Transfire - ECPv6.2.3.1//NONSGML v1.0//EN
CALSCALE:GREGORIAN
METHOD:PUBLISH
X-WR-CALNAME:Transfire
X-ORIGINAL-URL:https://transfire-hub.org
X-WR-CALDESC:Events for Transfire
REFRESH-INTERVAL;VALUE=DURATION:PT1H
X-Robots-Tag:noindex
X-PUBLISHED-TTL:PT1H
BEGIN:VTIMEZONE
TZID:UTC
BEGIN:STANDARD
TZOFFSETFROM:+0000
TZOFFSETTO:+0000
TZNAME:UTC
DTSTART:20230101T000000
END:STANDARD
END:VTIMEZONE
BEGIN:VEVENT
DTSTART;TZID=UTC:20230208T120000
DTEND;TZID=UTC:20230208T130000
DTSTAMP:20260425T131134
CREATED:20230126T114235Z
LAST-MODIFIED:20230130T115903Z
UID:4076-1675857600-1675861200@transfire-hub.org
SUMMARY:Net-Zero\, Industrial Decarbonisation\, and the ‘Non-Technical’ Dimensions of Transformative Change
DESCRIPTION:SKAPE is delighted to host Kyle Parker and Steve Yearley (University of Edinburgh). \nKyle and Steve will be presenting on “Net-Zero\, Industrial Decarbonisation\, and the ‘Non-Technical’ Dimensions of Transformative Change”. \nAbstract: \nThis talk reports on research being conducted within STIS as part of the UK’s TransFIRe Hub – a large investment by UKRI/EPSRC involving over 20 investigators from 12 UK institutions\, in addition to Project Partners from more than 70 organisations (including companies\, NGOs and government organisations.  \nTransFIRe is about the meeting point of two huge challenges and transformations confronting UK industry: namely\, the impacts of Brexit on international competitiveness\, and the drive towards decarbonisation and the UK’s 2050 ‘Net-Zero’ target.  This is of particular importance to the so-called Foundation Industries (FI) – the energy-intensive industries that produce the material from which other products are made (for example\, metals\, glass and ceramics). Ordinary people are seldom customers for foundation-industry products\, but they (we) buy the things made from FI outputs.  \nIn this talk we will draw on policy analyses and one main Scottish\, industry case study to investigate how the future of the Foundation Industries is being shaped and imagined or ignored in the UK. Most of the research that is currently being conducted on FIs is focused on technical adaptations and improvements. Our emphasis is on other factors\, including the planning system\, political objectives\, and community-industry relations. Though this research is focused on the UK\, the talk has implications for comparable OECD member states.  \nSpeakers: \nKyle Parker: After working as an academic research chemist for 10 years\, in 2018 I came to the University of Edinburgh to study policy support for accelerating technology development in Scotland’s marine renewable energy sector.  From 2020-2022 I worked as a Research Fellow on the ‘Energy Policy Effectiveness’ project for the ClimateXChange research agency\, where I produced systematic evidence reviews on energy and climate change policy issues on behalf of the Scottish Government.  This work focused primarily on green industrial strategy\, and accelerating the deployment of low carbon heating and energy efficiency technologies in Scotland.   \nI currently work as a Research Fellow on the TransFIRe (Transforming the Foundation Industries Research Hub) project\, studying the socioeconomic dimensions of transformative change and industrial decarbonisation.   \nSteve Yearley holds the Chair in the Sociology of Scientific Knowledge (SSK) in STIS\, the subject area of “Science\, Technology and Innovation Studies”.  \nSteve is well known for his work in social studies of science and in environmental sociology. Key to his work is thinking about environmental issues from an STS or SSK point of view – for example\, looking at the ways in which environmental activists have adapted to dealing with scientific evidence.  \nIn his empirical work Steve is particularly concerned with areas where STS and environmental sociology overlap: for example in environmental controversies with a pronounced scientific element (such as with climate change and with continuing disputes over the safety or otherwise of GMOs and the associated concerns around synthetic biology) or\, for example\, in attempts to foster public engagement in technical decision-making in environmental areas (for instance\, through his work on citizen engagement in urban air-quality issues). Currently\, Steve is working on industrial decarbonisation in the UK\, and also doing some writing that links back to his work at the Genomics Forum.  \n______________ \nThis event will take place in person at the University of Edinburgh\, Chrystal Macmillan Building\, Room 2.15.
URL:https://transfire-hub.org/event/net-zero-industrial-decarbonisation-and-the-non-technical-dimensions-of-transformative-change/
LOCATION:University of Edinburgh\, Chrystal Macmillan Building\, Room 2.15
CATEGORIES:Seminar
ATTACH;FMTTYPE=image/jpeg:https://transfire-hub.org/wp-content/uploads/2023/01/Resevoir-KyleParker.jpg
END:VEVENT
END:VCALENDAR