BEGIN:VCALENDAR
VERSION:2.0
PRODID:-//Transfire - ECPv6.2.3.1//NONSGML v1.0//EN
CALSCALE:GREGORIAN
METHOD:PUBLISH
X-ORIGINAL-URL:https://transfire-hub.org
X-WR-CALDESC:Events for Transfire
REFRESH-INTERVAL;VALUE=DURATION:PT1H
X-Robots-Tag:noindex
X-PUBLISHED-TTL:PT1H
BEGIN:VTIMEZONE
TZID:UTC
BEGIN:STANDARD
TZOFFSETFROM:+0000
TZOFFSETTO:+0000
TZNAME:UTC
DTSTART:20230101T000000
END:STANDARD
END:VTIMEZONE
BEGIN:VEVENT
DTSTART;VALUE=DATE:20230424
DTEND;VALUE=DATE:20230428
DTSTAMP:20260422T133228
CREATED:20230411T075524Z
LAST-MODIFIED:20230411T075524Z
UID:4404-1682294400-1682639999@transfire-hub.org
SUMMARY:Sustainable Materials Researcher's Workshop
DESCRIPTION:An interactive programme of events aimed at Early Careers Researcher’s from within TransFIRe and industry with the overall aim of supporting and equipping them with the skills and confidence to deliver ambitious commitments. The workshop will include a series of talks\, facilitated sessions\, industry visits and networking opportunities. \nThe purpose of the workshop is to:\n• get you to think differently\n• learn new skills and behaviours\n• promote engagement and collaboration within TransFIRe\n• expand collaborations outside of TransFIRe and the UK \n\n\n\n\n\nEvent Programme\n\n\n\nFor further information\, please contact Joanna Johnson on joanna.johnson@cranfield.ac.uk.
URL:https://transfire-hub.org/event/sustainable-materials-researchers-workshop/
LOCATION:European Sustainability Academy\, Drapanos\, 730-08 Chania\, Greece
CATEGORIES:Workshop
ATTACH;FMTTYPE=image/jpeg:https://transfire-hub.org/wp-content/uploads/2023/04/ESA.jpg
ORGANIZER;CN="TransFIRe":MAILTO:joanna.johnson@cranfield.ac.uk
END:VEVENT
BEGIN:VEVENT
DTSTART;TZID=UTC:20230427T093000
DTEND;TZID=UTC:20230427T160000
DTSTAMP:20260422T133228
CREATED:20230329T103233Z
LAST-MODIFIED:20230329T103233Z
UID:4393-1682587800-1682611200@transfire-hub.org
SUMMARY:Foundation Industries 4.0 - Workshop & Networking Event
DESCRIPTION:This exclusive one-day event will feature a series of presentations from innovative businesses using digital technologies and platforms to tackle resource and energy efficiency challenges in the Foundation Industries. There will also be an interactive challenge- led workshop delivered by Saeema Ahmed-Kristensen\, Professor of Design Engineering and Innovation at the University of Exeter. This event is open to stakeholders from the materials sectors. \nRegister here: https://iuk.ktn-uk.org/events/foundation-industries-4-workshop-networking/
URL:https://transfire-hub.org/event/foundation-industries-4-0-workshop-networking-event/
LOCATION:Institute of Materials\, Minerals & Mining\, 297 Euston Rd\, London\, NW1 3AD\, United Kingdom
CATEGORIES:Workshop
ATTACH;FMTTYPE=image/jpeg:https://transfire-hub.org/wp-content/uploads/2023/03/46262641_XL-scaled.jpg
ORGANIZER;CN="Innovate UK - KTN":MAILTO:neelam.mughal@iuk.ktn-uk.org
END:VEVENT
END:VCALENDAR