BEGIN:VCALENDAR
VERSION:2.0
PRODID:-//Transfire - ECPv6.2.3.1//NONSGML v1.0//EN
CALSCALE:GREGORIAN
METHOD:PUBLISH
X-ORIGINAL-URL:https://transfire-hub.org
X-WR-CALDESC:Events for Transfire
REFRESH-INTERVAL;VALUE=DURATION:PT1H
X-Robots-Tag:noindex
X-PUBLISHED-TTL:PT1H
BEGIN:VTIMEZONE
TZID:UTC
BEGIN:STANDARD
TZOFFSETFROM:+0000
TZOFFSETTO:+0000
TZNAME:UTC
DTSTART:20240101T000000
END:STANDARD
END:VTIMEZONE
BEGIN:VEVENT
DTSTART;TZID=UTC:20240612T090000
DTEND;TZID=UTC:20240612T164500
DTSTAMP:20260421T114518
CREATED:20231205T090741Z
LAST-MODIFIED:20240603T100904Z
UID:4922-1718182800-1718210700@transfire-hub.org
SUMMARY:Final TransFIRe Celebration Event
DESCRIPTION:Join the TransFIRe team for an event celebrating the culmination of the TransFIRe project on Wednesday 12 June in Lecture Room 16 at the Cranfield Management Development Centre\, Cranfield University \nThe event will summarise the achievements and research outputs of TransFIRe over the three years of the project and will discuss the legacy and next steps for the Foundation Industries. \nAdd this event to your calendar		\n			\n		\n			\n			\n			\n			\n			\n		\n	\n	\n				\n				\n					Agenda\n				\n			\n						\n				\n					Venue / Accommodation\n				\n			\n						\n				\n					Dinner\n				\n			\n						\n				\n					About \n				\n			\n			\n\n				\n					Agenda for Wednesday 12th June \n09.00\nRegistration \n09.30\nWelcome and introduction\nRosa Wilkinson\, Director of Policy\, High Value Manufacturing Catapult\n \n09.35\nOpening address\nProfessor Karen Holford\, Chief Executive and Vice Chancellor\, Cranfield University \n09.45\nNew polymeric materials from industrial chemical waste streams\, with applications in durable coatings and wastewater treatment\nProfessor Justin Perry and Professor Matt Unthank\, Northumbria University \nThere are a range of carbon based materials that are currently undervalued or even unvalued by the foundation industries which we have shown can be converted into materials with identified use cases as an alternative to them being sent for landfill or energy recovery. We will show that the unrecyclable fraction of the PET recycling process can be converted into an alkyd polymer using biosourced or waste fillers to create a robust coating for industrial applications needing durability. In another case study\, we will show that the range of waste polysaccharides from the paper and food sectors can be used as "drop in" alternatives to petrochemical monomers making plastic films and coatings which can be entirely biosourced and are suitable for a range of application including waste water treatment (which is under trial at a pilot scale by Northumbrian Water). Finally we will show that whilst the chemical industry forms a complicated network of material inputs and outputs\, it is possible to map this to facilitate industrial symbiosis at a regional and hopefully national scale. \n10.05\nA realistic route to decarbonization of the UK cement and concrete industry by 2050\nDr Michal Drewniok and Dr Hisham Hafez\, University of Leeds \nThe UK cement industry is responsible for 7MtCO2\, approximately 2.1% of total territorial UK CO2 emissions and approximately 9% of the UK's manufacturing emissions. This impact can be reduced by using low-carbon cement replacement materials (Supplementary Cementitious Materials – SCM) or alternative fuels. Carbon intensity of the final product which is a structure made from concrete can be reduced further by layout and structural optimisation\, waste reduction as well as better concrete mix design. In system terms\, increase reuse and refurbishment of concrete structures can reduce the cement and concrete demand and therefore reduce CO2 emissions. \nWhile each of these steps have a relatively marginal CO2 reduction potential\, their combination can achieve much larger CO2 savings. This presentation will demonstrate how the combined effect of multiple marginal actions that can be applied today to reduce CO2 emissions from the cement industry. \n10.25\nAnalysing resource efficiency & benchmarking of foundation industries\nProfessor Jonathan Cullen\, University of Cambridge \nWithin the pressing global call for a decarbonised economy\, the UK takes a leading role. The foundation industries are fundamental in this transformation\, though they face significant challenges in reducing carbon emissions. This presentation will deliver insights from the studies conducted on resource efficiency and benchmarking\, examining the resource flows to bring clarity to the use of resources within these sectors. We will analyse key metrics such as energy intensity\, emissions intensity\, and material circularity\, thereby showing their combined effect on the nation's performance indicators. Our analysis provides a clear perspective in recognising opportunities and refining strategic initiatives towards the net-zero emissions target set for 2050. \n10.45\nCoffee break (Atrium) \n11.15\nThermoRecycliSt: Exploring new horizons for waste recycling in Foundation Industries\nDr Ahmed Khalil\, University of Exeter \nThis presentation delves into the innovative Thermodynamic Simulation-Guided Recycling Strategy (ThermoRecycliSt) and its significant contributions to the recycling of waste materials and the use of alternative raw materials in the foundation industries. By leveraging thermodynamic simulation calculations\, ThermoRecycliSt effectively predicts phase changes in both individual waste materials and integrated raw mixes\, primarily within the refractories industry\, and including the ceramic\, cement and glass foundation industries. This efficient screening tool assesses the suitability of waste materials\, thus offering broad guidance for diverse foundation industries aiming to enhance resource utilisation and environmental sustainability. \nKey case studies demonstrate ThermoRecycliSt's impact. The "Recycling Refractory Waste" project\, in collaboration with Trent and Parkinson-Spencer Refractories Ltd\, showcased the strategy's ability to improve raw material mix performance and identify applications for refractory systems. The "Wienerberger Model-Driven Sustainable Brick Manufacturing Case Study" demonstrated the potential of integrating agricultural waste\, such as sugarcane bagasse\, into bricks. ThermoRecycliSt and empirical correlations predicted essential properties (e.g.\, mechanical strength\, porosity) for optimising waste incorporation in bricks to achieve energy-saving benefits. Together\, these case studies highlight ThermoRecycliSt's versatility and its vital role in shaping sustainable waste recycling practices across foundation industries. \n11.35\nNatural coatings for paper packaging\nDr Simon Curling and Jennifer Woods\, Bangor University\n \nThe use of plastics in packaging has come under a lot of scrutiny in the past few years due to its persistence in the environment. Plastic is an undeniable effective material but are there alternatives? Paper and card are one obvious alternative\, however\, these are not an effective material when liquid or grease is present. Treatments such as films or coatings can be added to improve these properties but if they are made from plastics this may remove the benefit of using paper in the first place! \nNew processes can use biodegradable polymers as films or use technology to remove the films\, although current interest is in recycling and repulping the paper rather than degrading.  In addition\, natural coating materials\, using seaweed and beeswax have also been developed in association with Wipak Ltd. \nThis presentation will discuss the developments into repulping these new materials and the promising results in the methods of application and resultant properties of using natural coating materials. \n11.55\nIndustrial Symbiosis: from research activities to new applications?\nDr Lampros Litos\, Cranfield University \nAs companies are always looking for new ways to reduce their carbon footprint\, substitution of raw materials can be worth exploring. In some cases\, process waste can be a particularly valuable feedstock. In looking for novel use cases for waste material in foundation industries the concept of industrial symbiosis offers a valuable paradigm for research and development of new applications. \nIn the first instance companies are looking for a like-for-like substitution of virgin materials with waste. If direct substitution is not an option\, barriers to new opportunities quickly arise. Some barriers can be strategic\, technological\, organisational or simply economical and though technically possible to overcome\, the effort and resource for additional R&D require a strong business case attached to it. Afterall\, using waste material as feedstock can only be economical within a limited geographic radius. \nTaking a cross-cutting view of the technology working groups in Transfire\, the workstream created workshops and industry engagement opportunities for industry partners to exchange ideas and information on waste. In addition\, the workstream took a deeper dive into the complexity and effort required for process technologies to be adopted\, making an assessment of adoption readiness against different foundation industries. \n12.15\nBenchmarking of UK glass manufacturing for the identification of potential energy efficiency improvements\nProfessor Paul Bingham\, Sheffield Hallam University \nThis presentation will cover work to investigate the compositions of commercial soda-lime-silica glasses currently present in the UK market\, as there is a lack of recent research on the subject\, with the most recent studies now being over 20 years old. The differences uncovered in composition of current commercial glass compositions\, compared to glasses from 30 to 40 years ago\, has shed light on the direction of travel and reasons for adjustments to UK glass compositions over recent decades\, but it also provides insights and predictions into the future trends. Crucially\, it also illustrates opportunities for glass manufacturers to modify or adjust their glass compositions to enable lower melting temperatures\, thereby reducing energy demand and fuel carbon emissions. It also de-risks compositional modifications for a glass manufacturer by highlighting that other manufacturers have already successfully commercially implemented such changes. \n12.35\nLunch (Restaurant 3\, 1 and 7) \n13.35\nEquity\, Diversity and Inclusion in the Foundation Industries – International Women in Engineering Day session \nProfessor Sue Black OBE\, Durham University and Jo Stansfield\,  TransFIRe’s Senior Equity\, Diversity and Inclusion Project Manager\, and Founder of Inclusioneering Limited\n \nJoin us for a live recording of a very special episode of The Equity Edge podcast.  Hosted by Professor Sue Black and Jo Stansfield\, the Equity Edge is all about shaping tomorrow’s foundation industries\, with a focus on equity\, diversity\, and inclusion (EDI)\, and how it can help us achieve a sustainable and fairer future. \nThis special episode celebrates International Women in Engineering Day\, held annually on 23rd June\, and highlights the amazing achievements of women engineers and exciting career opportunities for girls.  We will be joined by a panel of guests who will share their stories\, experiences and insight as women working in the Foundation Industries - these include: \n\nSarah Connolly\, Innovation Lead\, Innovate UK\nDr Lorraine Ferris\, Royce Fellow\, Henry Royce Institute\nLucy Smith\, Head of Transformation\, Materials Processing Institute\n\n14.30\nCrossing fences and building bridges: Understanding barriers to community-industrial partnerships for energy transitions\nProfessor Steve Yearley\, University of Edinburgh  \nThis presentation will give a flavour of key WS3 activities\, in particular the research on four topics: indicators and metrics for firms’ SD/environmental performance; GIS modelling in the context of circularising spent sand and other resources; business-to-business learning; and the User Journey approach to mapping key participants’ understanding of the problem- and opportunity-space. \nThe rest of the talk will focus in a little more detail on our fifth issue – understanding the barriers to (and scope for) community-industrial partnerships for energy transitions. FIs are typically hot processes where firms find it hard to re-use all the ‘waste’ heat on the premises (to heat offices or pre-heat materials etc). The key question then is: what gets in the way of them sharing that valuable energy with the communities in which they’re located? \nOur results highlight key issues on the supply side\, such as contractual and legal barriers for firms which think of sharing their heat and difficulties they experience relating to ambiguous emissions “Scopes” and carbon accounting schemes. Critical too are demand-side issues among the potential customers for their heat; for example attitudes and perceptions of industrial waste heat. The talk will finish by highlighting the risk of FIs missing the boat in the current energy transition and being left behind: how do FIs compare with other emerging sources of (waste) heat for community use? \n14.50\nCoffee break (Atrium) \n15.20\nSustainability solutions for the metal industry\nProfessor Rossi Setchi\, Cardiff University \nThis talk will highlight some of the work of the TransFIRe team with two champions of sustainability and circular economy in the UK. The first case study includes detailed chemical analysis of a range of by-products and investigating opportunities to transform these by-products into valuable resources for the steel making industry and other foundation industries. The second study focuses on the recycling of electronic waste (e-waste) to recover precious metals. It introduces the team's methodology for modelling material and energy flows within the e-waste recycling process. \n15.40\nScaling and accelerating the innovation needed to drive the transformation of the foundation industries\nDr Graham Hillier\, FRSA\, Chair\, Foundation Industries Sustainability Consortium (FISC) \nIn this talk we will look at the importance of the foundation industries in a developed society and how we can go about creating a leading set of sustainable low carbon and resource efficient industries for the future. We will consider how research is translated through to innovation and then applied to manufacturing with a focus on the future development of these industries that truly are the foundation of our economy. \n16.10\nEvent wrap up \n16.15\nEvent close \n\n				\n								\n					Venue\nLecture Room 16\, Cranfield Management Development Centre \nHow to find us - Cranfield campus \nLocal Taxi \nThe local taxi company is called Skyline - Skyline Taxis | Book Taxi Milton Keynes | Northampton | Bedford | Flitwick \nYou can prebook taxis via their app or by calling.  A taxi from Milton Keynes Train Station will cost around £14.  A taxi from Bedford Train Station will cost around £20. \n\nParking\nThere is free parking at the CMDC. \n\nAccommodation\nAccommodation can be booked directly with the conference venue - CMDC – Venue Cranfield - for a rate of £113.95pp for bed and breakfast – you can do this by calling 01234 754820 or by sending an email to cmdcreservations@cranfield.ac.uk. \nAt the time of booking\, you will require credit card details to guarantee your room booking. \n  \n\n				\n								\n					Conference Dinner Details \nPlease note that bookings for the conference dinner are now closed and we can no longer accommodate any further guests. \nTuesday 11th June - B239\, Lounge 2 and Restaurant 2 CMDC \n18.45: Welcome Drink (a welcome drink will be provided on arrival and further drinks can be purchased from the bar) (Lounge 2) \n19.15:  Dinner (Restaurant 2) \n\nMenu \nStarter:\nChilled cucumber and dill soup (v) with Heirloom cherry tomatoes\, pickled shallot and micro cress. \nMain Course:\nRoasted chicken supreme\, chicken and basil veloute\, polenta\, lemon and olive oil slice\, balsamic roasted Mediterranean vegetable stack \nor \nCourgette\, fennel and soya bean fritters (v)\, lemon and dill sour cream\, polenta\, lemon and olive oil slice\, balsamic roasted Mediterranean vegetable stack \nDessert:\nEarl grey and dark chocolate pot\, french macaroon\, chocolate spears and digestive crumb \nFreshly brewed coffee and petit fours \n\n				\n								\n					Join the TransFIRe team for an event celebrating the culmination of the TransFIRe project on Wednesday 12 June at Cranfield Management Development Centre at Cranfield University . \nAs TransFIRe draws to a close\, this event will showcase key findings from a range of our transformational research projects\, undertaken in collaboration with a wide range of industrial partners from across the foundation industries.  We will discuss lessons learnt\, how these might be relevant or useful to other sectors\, next steps for our partners and how the legacy will continue. \nThis event will be aimed at anyone working within the foundation industries and their supply chains and will be a great opportunity for networking. \n  \n 
URL:https://transfire-hub.org/event/final-transfire-celebration-event/
LOCATION:Lecture Room 16\, Cranfield Management Development Centre (CMDC)\, College Road\, Cranfield\, Bedfordshire\, MK43 0AL\, United Kingdom
CATEGORIES:Conference,Workshop
ATTACH;FMTTYPE=image/jpeg:https://transfire-hub.org/wp-content/uploads/2023/12/AdobeStock_126969362-scaled.jpeg
ORGANIZER;CN="TransFIRe":MAILTO:joanna.johnson@cranfield.ac.uk
END:VEVENT
END:VCALENDAR