BEGIN:VCALENDAR
VERSION:2.0
PRODID:-//Transfire - ECPv6.2.3.1//NONSGML v1.0//EN
CALSCALE:GREGORIAN
METHOD:PUBLISH
X-ORIGINAL-URL:https://transfire-hub.org
X-WR-CALDESC:Events for Transfire
REFRESH-INTERVAL;VALUE=DURATION:PT1H
X-Robots-Tag:noindex
X-PUBLISHED-TTL:PT1H
BEGIN:VTIMEZONE
TZID:UTC
BEGIN:STANDARD
TZOFFSETFROM:+0000
TZOFFSETTO:+0000
TZNAME:UTC
DTSTART:20230101T000000
END:STANDARD
END:VTIMEZONE
BEGIN:VEVENT
DTSTART;TZID=UTC:20230719T123000
DTEND;TZID=UTC:20230719T160000
DTSTAMP:20260422T053159
CREATED:20230703T100630Z
LAST-MODIFIED:20230703T131633Z
UID:4629-1689769800-1689782400@transfire-hub.org
SUMMARY:Challenges on Sustainability Reporting Workshop
DESCRIPTION:To support the progress towards the 2040 Net Zero commitments\, TransFIRe in collaboration with North Lincolnshire Council is seeking to work with companies\, particularly high energy use industries\, on considering how to align with broad economic\, environmental and social metrics arising from emerging national and international standards. In doing so\, companies can evidence their progress to stakeholders as well as drive activities beyond the factory gate that give potential for greater net zero reductions for themselves and their community. \n  \nHalf-day Workshop: Exploring needs and interests \nPurpose: This will be a workshop for manufacturing companies to hear from experts within policy and sustainability to explore current and near future needs for sustainability metrics in detail and how manufacturers can aid in decision making and progress toward Net Zero and other sustainability targets. \nOutcomes: We expect you to leave the workshop with: \n\nBetter understanding of enablers and good practice for sustainability metrics setting.\nBetter understanding of broader metrics can uncover opportunities for bigger savings.\nInsight to how working with other stakeholders locally can generate win-win opportunities.\nA plan for engaging in metrics development in Q3 2023.\n\nAgenda: \n12.30-13.15\nArrival\, buffet lunch\, opportunity to network \n13.15-13.30\nWelcome and objectives \n13.30-14.30\nEnablers and barriers for implementing system wide sustainability metrics. Manufacturer experiences and practice data from TransFIRe. \n14.30-14.45\nBreak \n14.45-15.45\nHow collaboration for net zero can be driven and reported by metrics. \n15.45-16.00\nAction planning and close \n  \nTeam: North Lincolnshire Council\, University of York TransFIRe team and Green Knight Consulting. \nRegistration: Free to attend\, manufacturers please register here. \nWho to contact? \nFor how TransFIRe could help your business\, please in contact peter.ball@york.ac.uk or jr.candia@york.ac.uk
URL:https://transfire-hub.org/event/challenges-on-sustainability-reporting-workshop/
LOCATION:Normanby Gateway\, Lysaghts Way\, Scunthorpe\, DN15 9YG\, United Kingdom
CATEGORIES:Workshop
ATTACH;FMTTYPE=image/jpeg:https://transfire-hub.org/wp-content/uploads/2023/05/77062212_L_WEB-scaled.jpg
END:VEVENT
END:VCALENDAR